Workbook

Sheet Evidencija sati
A1: Evidencija sati po projektima
A2: Najprije dodajte projekte na list Projekti. Zatim ovdje bilježite svaki blok rada: odaberite projekt, upišite početak i završetak te označite naplaćuje li se.
A4: Ime i prezime | E4: Ukupno sati | G4: Naplativi sati | I4: Iznos
E5: =SUM(H9:H208) | G5: =SUMIFS(H9:H208,I9:I208,"Da") | I5: =SUM(K9:K208)
A8: Datum | B8: Projekt | C8: Klijent | D8: Zadatak / opis | E8: Početak | F8: Završetak | G8: Pauza (min) | H8: Sati | I8: Naplativo | J8: Satnica | K8: Iznos
C9: =IF(B9="","",IFERROR(INDEX('Projekti'!$B$8:$B$37,MATCH(B9,'Projekti'!$A$8:$A$37,0))&"","")) | H9: =IF(OR(E9="",F9=""),"",ROUND(MAX(0,MOD(F9-E9,1)*24-N(G9)/60),2)) | J9: =IF(B9="","",IFERROR(INDEX('Projekti'!$C$8:$C$37,MATCH(B9,'Projekti'!$A$8:$A$37,0))+0,"")) | K9: =IF(OR(H9="",J9="",J9=0,I9<>"Da"),"",ROUND(H9*J9,2))
C10: =IF(B10="","",IFERROR(INDEX('Projekti'!$B$8:$B$37,MATCH(B10,'Projekti'!$A$8:$A$37,0))&"","")) | H10: =IF(OR(E10="",F10=""),"",ROUND(MAX(0,MOD(F10-E10,1)*24-N(G10)/60),2)) | J10: =IF(B10="","",IFERROR(INDEX('Projekti'!$C$8:$C$37,MATCH(B10,'Projekti'!$A$8:$A$37,0))+0,"")) | K10: =IF(OR(H10="",J10="",J10=0,I10<>"Da"),"",ROUND(H10*J10,2))
C11: =IF(B11="","",IFERROR(INDEX('Projekti'!$B$8:$B$37,MATCH(B11,'Projekti'!$A$8:$A$37,0))&"","")) | H11: =IF(OR(E11="",F11=""),"",ROUND(MAX(0,MOD(F11-E11,1)*24-N(G11)/60),2)) | J11: =IF(B11="","",IFERROR(INDEX('Projekti'!$C$8:$C$37,MATCH(B11,'Projekti'!$A$8:$A$37,0))+0,"")) | K11: =IF(OR(H11="",J11="",J11=0,I11<>"Da"),"",ROUND(H11*J11,2))
C12: =IF(B12="","",IFERROR(INDEX('Projekti'!$B$8:$B$37,MATCH(B12,'Projekti'!$A$8:$A$37,0))&"","")) | H12: =IF(OR(E12="",F12=""),"",ROUND(MAX(0,MOD(F12-E12,1)*24-N(G12)/60),2)) | J12: =IF(B12="","",IFERROR(INDEX('Projekti'!$C$8:$C$37,MATCH(B12,'Projekti'!$A$8:$A$37,0))+0,"")) | K12: =IF(OR(H12="",J12="",J12=0,I12<>"Da"),"",ROUND(H12*J12,2))
C13: =IF(B13="","",IFERROR(INDEX('Projekti'!$B$8:$B$37,MATCH(B13,'Projekti'!$A$8:$A$37,0))&"","")) | H13: =IF(OR(E13="",F13=""),"",ROUND(MAX(0,MOD(F13-E13,1)*24-N(G13)/60),2)) | J13: =IF(B13="","",IFERROR(INDEX('Projekti'!$C$8:$C$37,MATCH(B13,'Projekti'!$A$8:$A$37,0))+0,"")) | K13: =IF(OR(H13="",J13="",J13=0,I13<>"Da"),"",ROUND(H13*J13,2))
C14: =IF(B14="","",IFERROR(INDEX('Projekti'!$B$8:$B$37,MATCH(B14,'Projekti'!$A$8:$A$37,0))&"","")) | H14: =IF(OR(E14="",F14=""),"",ROUND(MAX(0,MOD(F14-E14,1)*24-N(G14)/60),2)) | J14: =IF(B14="","",IFERROR(INDEX('Projekti'!$C$8:$C$37,MATCH(B14,'Projekti'!$A$8:$A$37,0))+0,"")) | K14: =IF(OR(H14="",J14="",J14=0,I14<>"Da"),"",ROUND(H14*J14,2))
C15: =IF(B15="","",IFERROR(INDEX('Projekti'!$B$8:$B$37,MATCH(B15,'Projekti'!$A$8:$A$37,0))&"","")) | H15: =IF(OR(E15="",F15=""),"",ROUND(MAX(0,MOD(F15-E15,1)*24-N(G15)/60),2)) | J15: =IF(B15="","",IFERROR(INDEX('Projekti'!$C$8:$C$37,MATCH(B15,'Projekti'!$A$8:$A$37,0))+0,"")) | K15: =IF(OR(H15="",J15="",J15=0,I15<>"Da"),"",ROUND(H15*J15,2))
C16: =IF(B16="","",IFERROR(INDEX('Projekti'!$B$8:$B$37,MATCH(B16,'Projekti'!$A$8:$A$37,0))&"","")) | H16: =IF(OR(E16="",F16=""),"",ROUND(MAX(0,MOD(F16-E16,1)*24-N(G16)/60),2)) | J16: =IF(B16="","",IFERROR(INDEX('Projekti'!$C$8:$C$37,MATCH(B16,'Projekti'!$A$8:$A$37,0))+0,"")) | K16: =IF(OR(H16="",J16="",J16=0,I16<>"Da"),"",ROUND(H16*J16,2))
C17: =IF(B17="","",IFERROR(INDEX('Projekti'!$B$8:$B$37,MATCH(B17,'Projekti'!$A$8:$A$37,0))&"","")) | H17: =IF(OR(E17="",F17=""),"",ROUND(MAX(0,MOD(F17-E17,1)*24-N(G17)/60),2)) | J17: =IF(B17="","",IFERROR(INDEX('Projekti'!$C$8:$C$37,MATCH(B17,'Projekti'!$A$8:$A$37,0))+0,"")) | K17: =IF(OR(H17="",J17="",J17=0,I17<>"Da"),"",ROUND(H17*J17,2))
C18: =IF(B18="","",IFERROR(INDEX('Projekti'!$B$8:$B$37,MATCH(B18,'Projekti'!$A$8:$A$37,0))&"","")) | H18: =IF(OR(E18="",F18=""),"",ROUND(MAX(0,MOD(F18-E18,1)*24-N(G18)/60),2)) | J18: =IF(B18="","",IFERROR(INDEX('Projekti'!$C$8:$C$37,MATCH(B18,'Projekti'!$A$8:$A$37,0))+0,"")) | K18: =IF(OR(H18="",J18="",J18=0,I18<>"Da"),"",ROUND(H18*J18,2))
C19: =IF(B19="","",IFERROR(INDEX('Projekti'!$B$8:$B$37,MATCH(B19,'Projekti'!$A$8:$A$37,0))&"","")) | H19: =IF(OR(E19="",F19=""),"",ROUND(MAX(0,MOD(F19-E19,1)*24-N(G19)/60),2)) | J19: =IF(B19="","",IFERROR(INDEX('Projekti'!$C$8:$C$37,MATCH(B19,'Projekti'!$A$8:$A$37,0))+0,"")) | K19: =IF(OR(H19="",J19="",J19=0,I19<>"Da"),"",ROUND(H19*J19,2))
C20: =IF(B20="","",IFERROR(INDEX('Projekti'!$B$8:$B$37,MATCH(B20,'Projekti'!$A$8:$A$37,0))&"","")) | H20: =IF(OR(E20="",F20=""),"",ROUND(MAX(0,MOD(F20-E20,1)*24-N(G20)/60),2)) | J20: =IF(B20="","",IFERROR(INDEX('Projekti'!$C$8:$C$37,MATCH(B20,'Projekti'!$A$8:$A$37,0))+0,"")) | K20: =IF(OR(H20="",J20="",J20=0,I20<>"Da"),"",ROUND(H20*J20,2))
... C208: =IF(B208="","",IFERROR(INDEX('Projekti'!$B$8:$B$37,MATCH(B208,'Projekti'!$A$8:$A$37,0))&"","")) | H208: =IF(OR(E208="",F208=""),"",ROUND(MAX(0,MOD(F208-E208,1)*24-N(G208)/60),2)) | J208: =IF(B208="","",IFERROR(INDEX('Projekti'!$C$8:$C$37,MATCH(B208,'Projekti'!$A$8:$A$37,0))+0,"")) | K208: =IF(OR(H208="",J208="",J208=0,I208<>"Da"),"",ROUND(H208*J208,2))
A210: Besplatni predložak od EasyHours · easyhours.hr – bilježite dolaske mobitelom ili zajedničkim tabletom umjesto na papiru.

Sheet Projekti
A1: Projekti
A2: Za svaki projekt upišite klijenta i satnicu. Sati i iznosi za naplatu zbrajaju se iz evidencije sati. Postavite raspon datuma za zbroj jednog mjeseca ili obračunskog razdoblja.
A4: Zbroji samo rad u razdoblju | D4: – | F4: Ostavite oba datuma prazna za zbroj svega.
A7: Projekt | B7: Klijent | C7: Satnica | D7: Planirano (h) | E7: Sati | F7: Naplativi sati | G7: Iznos | H7: Preostalo (h)
E8: =IF($A8="","",SUMIFS('Evidencija sati'!$H$9:$H$208,'Evidencija sati'!$B$9:$B$208,$A8,'Evidencija sati'!$A$9:$A$208,">="&IF($C$4="",0,$C$4),'Evidencija sati'!$A$9:$A$208,"<="&IF($E$4="",2958465,$E$4))) | F8: =IF($A8="","",SUMIFS('Evidencija sati'!$H$9:$H$208,'Evidencija sati'!$B$9:$B$208,$A8,'Evidencija sati'!$I$9:$I$208,"Da",'Evidencija sati'!$A$9:$A$208,">="&IF($C$4="",0,$C$4),'Evidencija sati'!$A$9:$A$208,"<="&IF($E$4="",2958465,$E$4))) | G8: =IF($A8="","",SUMIFS('Evidencija sati'!$K$9:$K$208,'Evidencija sati'!$B$9:$B$208,$A8,'Evidencija sati'!$A$9:$A$208,">="&IF($C$4="",0,$C$4),'Evidencija sati'!$A$9:$A$208,"<="&IF($E$4="",2958465,$E$4))) | H8: =IF(OR($A8="",N(D8)=0),"",D8-E8)
E9: =IF($A9="","",SUMIFS('Evidencija sati'!$H$9:$H$208,'Evidencija sati'!$B$9:$B$208,$A9,'Evidencija sati'!$A$9:$A$208,">="&IF($C$4="",0,$C$4),'Evidencija sati'!$A$9:$A$208,"<="&IF($E$4="",2958465,$E$4))) | F9: =IF($A9="","",SUMIFS('Evidencija sati'!$H$9:$H$208,'Evidencija sati'!$B$9:$B$208,$A9,'Evidencija sati'!$I$9:$I$208,"Da",'Evidencija sati'!$A$9:$A$208,">="&IF($C$4="",0,$C$4),'Evidencija sati'!$A$9:$A$208,"<="&IF($E$4="",2958465,$E$4))) | G9: =IF($A9="","",SUMIFS('Evidencija sati'!$K$9:$K$208,'Evidencija sati'!$B$9:$B$208,$A9,'Evidencija sati'!$A$9:$A$208,">="&IF($C$4="",0,$C$4),'Evidencija sati'!$A$9:$A$208,"<="&IF($E$4="",2958465,$E$4))) | H9: =IF(OR($A9="",N(D9)=0),"",D9-E9)
E10: =IF($A10="","",SUMIFS('Evidencija sati'!$H$9:$H$208,'Evidencija sati'!$B$9:$B$208,$A10,'Evidencija sati'!$A$9:$A$208,">="&IF($C$4="",0,$C$4),'Evidencija sati'!$A$9:$A$208,"<="&IF($E$4="",2958465,$E$4))) | F10: =IF($A10="","",SUMIFS('Evidencija sati'!$H$9:$H$208,'Evidencija sati'!$B$9:$B$208,$A10,'Evidencija sati'!$I$9:$I$208,"Da",'Evidencija sati'!$A$9:$A$208,">="&IF($C$4="",0,$C$4),'Evidencija sati'!$A$9:$A$208,"<="&IF($E$4="",2958465,$E$4))) | G10: =IF($A10="","",SUMIFS('Evidencija sati'!$K$9:$K$208,'Evidencija sati'!$B$9:$B$208,$A10,'Evidencija sati'!$A$9:$A$208,">="&IF($C$4="",0,$C$4),'Evidencija sati'!$A$9:$A$208,"<="&IF($E$4="",2958465,$E$4))) | H10: =IF(OR($A10="",N(D10)=0),"",D10-E10)
E11: =IF($A11="","",SUMIFS('Evidencija sati'!$H$9:$H$208,'Evidencija sati'!$B$9:$B$208,$A11,'Evidencija sati'!$A$9:$A$208,">="&IF($C$4="",0,$C$4),'Evidencija sati'!$A$9:$A$208,"<="&IF($E$4="",2958465,$E$4))) | F11: =IF($A11="","",SUMIFS('Evidencija sati'!$H$9:$H$208,'Evidencija sati'!$B$9:$B$208,$A11,'Evidencija sati'!$I$9:$I$208,"Da",'Evidencija sati'!$A$9:$A$208,">="&IF($C$4="",0,$C$4),'Evidencija sati'!$A$9:$A$208,"<="&IF($E$4="",2958465,$E$4))) | G11: =IF($A11="","",SUMIFS('Evidencija sati'!$K$9:$K$208,'Evidencija sati'!$B$9:$B$208,$A11,'Evidencija sati'!$A$9:$A$208,">="&IF($C$4="",0,$C$4),'Evidencija sati'!$A$9:$A$208,"<="&IF($E$4="",2958465,$E$4))) | H11: =IF(OR($A11="",N(D11)=0),"",D11-E11)
E12: =IF($A12="","",SUMIFS('Evidencija sati'!$H$9:$H$208,'Evidencija sati'!$B$9:$B$208,$A12,'Evidencija sati'!$A$9:$A$208,">="&IF($C$4="",0,$C$4),'Evidencija sati'!$A$9:$A$208,"<="&IF($E$4="",2958465,$E$4))) | F12: =IF($A12="","",SUMIFS('Evidencija sati'!$H$9:$H$208,'Evidencija sati'!$B$9:$B$208,$A12,'Evidencija sati'!$I$9:$I$208,"Da",'Evidencija sati'!$A$9:$A$208,">="&IF($C$4="",0,$C$4),'Evidencija sati'!$A$9:$A$208,"<="&IF($E$4="",2958465,$E$4))) | G12: =IF($A12="","",SUMIFS('Evidencija sati'!$K$9:$K$208,'Evidencija sati'!$B$9:$B$208,$A12,'Evidencija sati'!$A$9:$A$208,">="&IF($C$4="",0,$C$4),'Evidencija sati'!$A$9:$A$208,"<="&IF($E$4="",2958465,$E$4))) | H12: =IF(OR($A12="",N(D12)=0),"",D12-E12)
E13: =IF($A13="","",SUMIFS('Evidencija sati'!$H$9:$H$208,'Evidencija sati'!$B$9:$B$208,$A13,'Evidencija sati'!$A$9:$A$208,">="&IF($C$4="",0,$C$4),'Evidencija sati'!$A$9:$A$208,"<="&IF($E$4="",2958465,$E$4))) | F13: =IF($A13="","",SUMIFS('Evidencija sati'!$H$9:$H$208,'Evidencija sati'!$B$9:$B$208,$A13,'Evidencija sati'!$I$9:$I$208,"Da",'Evidencija sati'!$A$9:$A$208,">="&IF($C$4="",0,$C$4),'Evidencija sati'!$A$9:$A$208,"<="&IF($E$4="",2958465,$E$4))) | G13: =IF($A13="","",SUMIFS('Evidencija sati'!$K$9:$K$208,'Evidencija sati'!$B$9:$B$208,$A13,'Evidencija sati'!$A$9:$A$208,">="&IF($C$4="",0,$C$4),'Evidencija sati'!$A$9:$A$208,"<="&IF($E$4="",2958465,$E$4))) | H13: =IF(OR($A13="",N(D13)=0),"",D13-E13)
E14: =IF($A14="","",SUMIFS('Evidencija sati'!$H$9:$H$208,'Evidencija sati'!$B$9:$B$208,$A14,'Evidencija sati'!$A$9:$A$208,">="&IF($C$4="",0,$C$4),'Evidencija sati'!$A$9:$A$208,"<="&IF($E$4="",2958465,$E$4))) | F14: =IF($A14="","",SUMIFS('Evidencija sati'!$H$9:$H$208,'Evidencija sati'!$B$9:$B$208,$A14,'Evidencija sati'!$I$9:$I$208,"Da",'Evidencija sati'!$A$9:$A$208,">="&IF($C$4="",0,$C$4),'Evidencija sati'!$A$9:$A$208,"<="&IF($E$4="",2958465,$E$4))) | G14: =IF($A14="","",SUMIFS('Evidencija sati'!$K$9:$K$208,'Evidencija sati'!$B$9:$B$208,$A14,'Evidencija sati'!$A$9:$A$208,">="&IF($C$4="",0,$C$4),'Evidencija sati'!$A$9:$A$208,"<="&IF($E$4="",2958465,$E$4))) | H14: =IF(OR($A14="",N(D14)=0),"",D14-E14)
E15: =IF($A15="","",SUMIFS('Evidencija sati'!$H$9:$H$208,'Evidencija sati'!$B$9:$B$208,$A15,'Evidencija sati'!$A$9:$A$208,">="&IF($C$4="",0,$C$4),'Evidencija sati'!$A$9:$A$208,"<="&IF($E$4="",2958465,$E$4))) | F15: =IF($A15="","",SUMIFS('Evidencija sati'!$H$9:$H$208,'Evidencija sati'!$B$9:$B$208,$A15,'Evidencija sati'!$I$9:$I$208,"Da",'Evidencija sati'!$A$9:$A$208,">="&IF($C$4="",0,$C$4),'Evidencija sati'!$A$9:$A$208,"<="&IF($E$4="",2958465,$E$4))) | G15: =IF($A15="","",SUMIFS('Evidencija sati'!$K$9:$K$208,'Evidencija sati'!$B$9:$B$208,$A15,'Evidencija sati'!$A$9:$A$208,">="&IF($C$4="",0,$C$4),'Evidencija sati'!$A$9:$A$208,"<="&IF($E$4="",2958465,$E$4))) | H15: =IF(OR($A15="",N(D15)=0),"",D15-E15)
E16: =IF($A16="","",SUMIFS('Evidencija sati'!$H$9:$H$208,'Evidencija sati'!$B$9:$B$208,$A16,'Evidencija sati'!$A$9:$A$208,">="&IF($C$4="",0,$C$4),'Evidencija sati'!$A$9:$A$208,"<="&IF($E$4="",2958465,$E$4))) | F16: =IF($A16="","",SUMIFS('Evidencija sati'!$H$9:$H$208,'Evidencija sati'!$B$9:$B$208,$A16,'Evidencija sati'!$I$9:$I$208,"Da",'Evidencija sati'!$A$9:$A$208,">="&IF($C$4="",0,$C$4),'Evidencija sati'!$A$9:$A$208,"<="&IF($E$4="",2958465,$E$4))) | G16: =IF($A16="","",SUMIFS('Evidencija sati'!$K$9:$K$208,'Evidencija sati'!$B$9:$B$208,$A16,'Evidencija sati'!$A$9:$A$208,">="&IF($C$4="",0,$C$4),'Evidencija sati'!$A$9:$A$208,"<="&IF($E$4="",2958465,$E$4))) | H16: =IF(OR($A16="",N(D16)=0),"",D16-E16)
E17: =IF($A17="","",SUMIFS('Evidencija sati'!$H$9:$H$208,'Evidencija sati'!$B$9:$B$208,$A17,'Evidencija sati'!$A$9:$A$208,">="&IF($C$4="",0,$C$4),'Evidencija sati'!$A$9:$A$208,"<="&IF($E$4="",2958465,$E$4))) | F17: =IF($A17="","",SUMIFS('Evidencija sati'!$H$9:$H$208,'Evidencija sati'!$B$9:$B$208,$A17,'Evidencija sati'!$I$9:$I$208,"Da",'Evidencija sati'!$A$9:$A$208,">="&IF($C$4="",0,$C$4),'Evidencija sati'!$A$9:$A$208,"<="&IF($E$4="",2958465,$E$4))) | G17: =IF($A17="","",SUMIFS('Evidencija sati'!$K$9:$K$208,'Evidencija sati'!$B$9:$B$208,$A17,'Evidencija sati'!$A$9:$A$208,">="&IF($C$4="",0,$C$4),'Evidencija sati'!$A$9:$A$208,"<="&IF($E$4="",2958465,$E$4))) | H17: =IF(OR($A17="",N(D17)=0),"",D17-E17)
E18: =IF($A18="","",SUMIFS('Evidencija sati'!$H$9:$H$208,'Evidencija sati'!$B$9:$B$208,$A18,'Evidencija sati'!$A$9:$A$208,">="&IF($C$4="",0,$C$4),'Evidencija sati'!$A$9:$A$208,"<="&IF($E$4="",2958465,$E$4))) | F18: =IF($A18="","",SUMIFS('Evidencija sati'!$H$9:$H$208,'Evidencija sati'!$B$9:$B$208,$A18,'Evidencija sati'!$I$9:$I$208,"Da",'Evidencija sati'!$A$9:$A$208,">="&IF($C$4="",0,$C$4),'Evidencija sati'!$A$9:$A$208,"<="&IF($E$4="",2958465,$E$4))) | G18: =IF($A18="","",SUMIFS('Evidencija sati'!$K$9:$K$208,'Evidencija sati'!$B$9:$B$208,$A18,'Evidencija sati'!$A$9:$A$208,">="&IF($C$4="",0,$C$4),'Evidencija sati'!$A$9:$A$208,"<="&IF($E$4="",2958465,$E$4))) | H18: =IF(OR($A18="",N(D18)=0),"",D18-E18)
E19: =IF($A19="","",SUMIFS('Evidencija sati'!$H$9:$H$208,'Evidencija sati'!$B$9:$B$208,$A19,'Evidencija sati'!$A$9:$A$208,">="&IF($C$4="",0,$C$4),'Evidencija sati'!$A$9:$A$208,"<="&IF($E$4="",2958465,$E$4))) | F19: =IF($A19="","",SUMIFS('Evidencija sati'!$H$9:$H$208,'Evidencija sati'!$B$9:$B$208,$A19,'Evidencija sati'!$I$9:$I$208,"Da",'Evidencija sati'!$A$9:$A$208,">="&IF($C$4="",0,$C$4),'Evidencija sati'!$A$9:$A$208,"<="&IF($E$4="",2958465,$E$4))) | G19: =IF($A19="","",SUMIFS('Evidencija sati'!$K$9:$K$208,'Evidencija sati'!$B$9:$B$208,$A19,'Evidencija sati'!$A$9:$A$208,">="&IF($C$4="",0,$C$4),'Evidencija sati'!$A$9:$A$208,"<="&IF($E$4="",2958465,$E$4))) | H19: =IF(OR($A19="",N(D19)=0),"",D19-E19)
... E37: =IF($A37="","",SUMIFS('Evidencija sati'!$H$9:$H$208,'Evidencija sati'!$B$9:$B$208,$A37,'Evidencija sati'!$A$9:$A$208,">="&IF($C$4="",0,$C$4),'Evidencija sati'!$A$9:$A$208,"<="&IF($E$4="",2958465,$E$4))) | F37: =IF($A37="","",SUMIFS('Evidencija sati'!$H$9:$H$208,'Evidencija sati'!$B$9:$B$208,$A37,'Evidencija sati'!$I$9:$I$208,"Da",'Evidencija sati'!$A$9:$A$208,">="&IF($C$4="",0,$C$4),'Evidencija sati'!$A$9:$A$208,"<="&IF($E$4="",2958465,$E$4))) | G37: =IF($A37="","",SUMIFS('Evidencija sati'!$K$9:$K$208,'Evidencija sati'!$B$9:$B$208,$A37,'Evidencija sati'!$A$9:$A$208,">="&IF($C$4="",0,$C$4),'Evidencija sati'!$A$9:$A$208,"<="&IF($E$4="",2958465,$E$4))) | H37: =IF(OR($A37="",N(D37)=0),"",D37-E37)
A38: Ukupno | E38: =SUM(E8:E37) | F38: =SUM(F8:F37) | G38: =SUM(G8:G37)
A40: Besplatni predložak od EasyHours · easyhours.hr – bilježite dolaske mobitelom ili zajedničkim tabletom umjesto na papiru.
